BEGIN:VCALENDAR
VERSION:2.0
PRODID:-//https://wa.raeme.org.au///NONSGML kigkonsult.se iCalcreator 2.10.15//
METHOD:PUBLISH
BEGIN:VEVENT
UID:20260425T030047AEST-1666LkMvu9@https://wa.raeme.org.au/
DTSTAMP:20260424T170047Z
DESCRIPTION:Vetrans Health Week and Annual General Meeting:\nSaturday 31 Oc
 t 20 in the Rubix Bar and lounge area at the IBIS hotel 334 Murry St\, PER
 TH.\nMeet in the Bar area from 1400 with the meeting in the dinning room t
 o commence at 1500 hrs\nLight snacks will be provided with a small range o
 f subsidised Drink available over the bar https://wa.raeme.org.au/index.ph
 p/notices/eventsmenu/event/337-vetrans-health-week-and-annual-general-meet
 ing
DTSTART:20201031T060000Z
DTEND:20201031T090000Z
LOCATION:IBIS Hotel / Rubix Bar & Cafe (334 Murray St\, Perth WA 6000\, Aus
 tralia)
SUMMARY:Vetrans Health Week and Annual General Meeting
URL:https://wa.raeme.org.au/index.php/notices/eventsmenu/event/337-vetrans-
 health-week-and-annual-general-meeting
END:VEVENT
END:VCALENDAR
