BEGIN:VCALENDAR
VERSION:2.0
PRODID:-//https://wa.raeme.org.au///NONSGML kigkonsult.se iCalcreator 2.10.15//
METHOD:PUBLISH
BEGIN:VEVENT
UID:20260421T221019AEST-0819O1Hom2@https://wa.raeme.org.au/
DTSTAMP:20260421T121019Z
DESCRIPTION:SOLD OUT!\nTo celebrate ours Corps Birthday\, we have booked AN
 ZAC House for a Cocktail Party. Food and drink are being subsidised by the
  Association\, resulting in a cost to members and their partners\, of only
  $25 per person.\nPlease register and buy your tickets online. https://wa.
 raeme.org.au/index.php/notices/eventsmenu/event/363-raeme-birthday-cocktai
 l-party-sold-out
DTSTART:20231201T110000Z
DTEND:20231201T140000Z
LOCATION:ANZAC House (28 St. George's Terrace\, Perth WA\, 6000)
SUMMARY:RAEME Birthday Cocktail Party -Sold out!
URL:https://wa.raeme.org.au/index.php/notices/eventsmenu/event/363-raeme-bi
 rthday-cocktail-party-sold-out
END:VEVENT
END:VCALENDAR
