BEGIN:VCALENDAR
VERSION:2.0
PRODID:-//https://wa.raeme.org.au///NONSGML kigkonsult.se iCalcreator 2.10.15//
METHOD:PUBLISH
BEGIN:VEVENT
UID:20260421T234706AEST-7192WdfCGL@https://wa.raeme.org.au/
DTSTAMP:20260421T134706Z
DESCRIPTION:A RAEME Vigil will be held in remembrance of our fallen. All se
 rving and ex serving members of RAEME and their families are very welcome 
 to attend.\nTimings:\n1900 h Assemble in Carpark\n2000 h Vigil completes\n
 Please bring a torch.\nThe laying of Poppies\, Rosemary or wreathes is wel
 come. &nbsp\;\nDirections: Access Kulunga Grove from Kings Park Road Park 
 behind the Next Gen Health &amp\; Lifestyle Clubs Meet in carpark then sho
 rt walk down Marri Walk for the RAEME Vigil\n&nbsp\;\n\n\nWX9135 Craftsman
  Leslie Prior\, 210th Ordnance Workshop\n\nARTE ET MARTE\nWE WILL REMEMBER
  THEM\nLEST WE FORGET https://wa.raeme.org.au/index.php/notices/eventsmenu
 /event/379-raeme-vigil
DTSTART:20260424T110000Z
DTEND:20260424T120000Z
LOCATION:Marri Walk Kings Park Perth WA  (Marri Walk\, Kings Park WA 6005\,
  Australia)
SUMMARY:RAEME Vigil
URL:https://wa.raeme.org.au/index.php/notices/eventsmenu/event/379-raeme-vi
 gil
END:VEVENT
END:VCALENDAR
