BEGIN:VCALENDAR
VERSION:2.0
PRODID:-//https://wa.raeme.org.au///NONSGML kigkonsult.se iCalcreator 2.10.15//
METHOD:PUBLISH
BEGIN:VEVENT
UID:20260421T235422AEST-1042UgvITT@https://wa.raeme.org.au/
DTSTAMP:20260421T135422Z
DESCRIPTION:All RAEME Association of WA members and families are invited to
  attend the after march function at the IBIS Hotel.&nbsp\;\nPlease note a 
 special license will been obtained (subject to approval) to open at 1000 h
 .\nCost: As per last year -&nbsp\;Free for members (Fees can be paid on th
 e day)\nFood will be available.&nbsp\;\nYou can renew your membership\, or
  become a member\, before the day by&nbsp\; using the links below.\nTo ren
 ew membership&nbsp\;visit: &nbsp\;http://www.wa.raeme.org.au/index.php/mem
 bership/membership-renewal\nFor new membership visit: http://www.wa.raeme.
 org.au/index.php/membership/ordinary-membership\nArte Et Marte\n https://w
 a.raeme.org.au/index.php/notices/eventsmenu/event/380-post-anzac-day-march
 -catch-up
DTSTART:20260425T020000Z
DTEND:20260425T080000Z
LOCATION:IBIS Hotel / Rubix Bar & Cafe (334 Murray St\, Perth WA 6000\, Aus
 tralia)
SUMMARY:Post Anzac Day March Catch-Up
URL:https://wa.raeme.org.au/index.php/notices/eventsmenu/event/380-post-anz
 ac-day-march-catch-up
END:VEVENT
END:VCALENDAR
