BEGIN:VCALENDAR
VERSION:2.0
PRODID:-//https://wa.raeme.org.au///NONSGML kigkonsult.se iCalcreator 2.10.15//
METHOD:PUBLISH
BEGIN:VEVENT
UID:20210226T051108+12-1510sV9TAT@https://wa.raeme.org.au/
DTSTAMP:20210225T171108Z
DESCRIPTION:All RAEME Association of WA members and families are invited to
  attend the after march function at the IBIS Hotel.&nbsp\;\nPlease note a 
 special license will been obtained (subject to approval) to open at 1100 h
 .\nCost: As per last year - $20 for members (and to renew) and $20 for gue
 sts\nFor those that have paid membership / renewed prior to ANZAC Day get 
 an extra ticket for the door prize.&nbsp\;\nFood will be available.&nbsp\;
 \nThis year is bound to be even better so make sure you contact all your m
 ates and get them there.&nbsp\;\nTo renew membership&nbsp\;visit: &nbsp\;h
 ttp://www.wa.raeme.org.au/index.php/membership/membership-renewal\nFor new
  membership visit: http://www.wa.raeme.org.au/index.php/membership/ordinar
 y-membership\nArte Et Marte\n https://wa.raeme.org.au/index.php/notices/ev
 entsmenu/event/340-anzac-day-function-2021
DTSTART:20210425T030000Z
DTEND:20210425T103000Z
LOCATION:IBIS Hotel (334 Murray St\, Perth WA 6000\, Australia)
SUMMARY:ANZAC Day Function 2021
URL:https://wa.raeme.org.au/index.php/notices/eventsmenu/event/340-anzac-da
 y-function-2021
END:VEVENT
END:VCALENDAR
